BEGIN:VCALENDAR
VERSION:2.0
CALSCALE:GREGORIAN
PRODID:-//Diputació de Barcelona//DibaCMS//EN
BEGIN:VEVENT
UID:14436
DTSTAMP:20260424T115655
DTSTART:20241218T170000
DTEND:20241218T200000
SUMMARY:Campanya de Nadal de donació de sang "Fem de la donació una nova tradició"
LOCATION:c. del Segre, 65 (Palaudàries) 08186   Lliçà d'Amunt
METHOD:PUBLISH
X-WR-CALNAME:ajuntament@llicamunt.cat
X-WR-TIMEZONE:Europe/Madrid
DESCRIPTION:
URI:https://www.llicamunt.cat/actualitat/agenda/campanya-de-nadal-de-donacio-de-sang-fem-de-la-donacio-una-nova-tradicio.html
CLASS:PUBLIC
END:VEVENT
END:VCALENDAR
