BEGIN:VCALENDAR
VERSION:2.0
CALSCALE:GREGORIAN
PRODID:-//Diputació de Barcelona//DibaCMS//EN
BEGIN:VEVENT
UID:14458
DTSTAMP:20260424T080059
DTSTART:20241222T090000
DTEND:20241222T130000
SUMMARY:Programa Dona i Esport: Cursa d'Orientació Popular
LOCATION:pati davant de l'Escola de música (c. de Barcelona, 25) 
METHOD:PUBLISH
X-WR-CALNAME:ajuntament@llicamunt.cat
X-WR-TIMEZONE:Europe/Madrid
DESCRIPTION:
URI:https://www.llicamunt.cat/actualitat/agenda/14458-programa-dona-i-esport-cursa-dorientacio-popular.html
CLASS:PUBLIC
END:VEVENT
END:VCALENDAR
