BEGIN:VCALENDAR
VERSION:2.0
CALSCALE:GREGORIAN
PRODID:-//Diputació de Barcelona//DibaCMS//EN
BEGIN:VEVENT
UID:14460
DTSTAMP:20260424T103635
DTSTART:20241228T110000
DTEND:20241230T200000
SUMMARY:Parc de Nadal
LOCATION:c. de Jaume I, 30 08186   Lliçà d'Amunt
METHOD:PUBLISH
X-WR-CALNAME:ajuntament@llicamunt.cat
X-WR-TIMEZONE:Europe/Madrid
DESCRIPTION:
URI:https://www.llicamunt.cat/actualitat/agenda/14460-parc-de-nadal.html
CLASS:PUBLIC
END:VEVENT
END:VCALENDAR
