BEGIN:VCALENDAR
VERSION:2.0
CALSCALE:GREGORIAN
PRODID:-//Diputació de Barcelona//DibaCMS//EN
BEGIN:VEVENT
UID:14462
DTSTAMP:20260424T092118
DTSTART:20241221T110000
DTEND:20241221T200000
SUMMARY:La plaça del joc
LOCATION:Plaça de Julià Martí i Pou 
METHOD:PUBLISH
X-WR-CALNAME:ajuntament@llicamunt.cat
X-WR-TIMEZONE:Europe/Madrid
DESCRIPTION:
URI:https://www.llicamunt.cat/actualitat/agenda/14462-la-placa-del-joc.html
CLASS:PUBLIC
END:VEVENT
END:VCALENDAR
