BEGIN:VCALENDAR
VERSION:2.0
CALSCALE:GREGORIAN
PRODID:-//Diputació de Barcelona//DibaCMS//EN
BEGIN:VEVENT
UID:14481
DTSTAMP:20260424T065121
DTSTART:20241214T110000
DTEND:20241214T130000
SUMMARY:Acte de Protecció Civil obert a la ciutadania
LOCATION:c. de Castelló de la Plana, 11 08186   Lliçà d'Amunt
METHOD:PUBLISH
X-WR-CALNAME:ajuntament@llicamunt.cat
X-WR-TIMEZONE:Europe/Madrid
DESCRIPTION:
URI:https://www.llicamunt.cat/actualitat/agenda/14481-acte-de-proteccio-civil-obert-a-la-ciutadania.html
CLASS:PUBLIC
END:VEVENT
END:VCALENDAR
