BEGIN:VCALENDAR
VERSION:2.0
CALSCALE:GREGORIAN
PRODID:-//Diputació de Barcelona//DibaCMS//EN
BEGIN:VEVENT
UID:14488
DTSTAMP:20260424T103556
DTSTART:20241219T190000
DTEND:20241219T210000
SUMMARY:Sessió extraordinària del Ple Municipal 
LOCATION:c. de Folch i Torres, 102 08186   Lliçà d'Amunt
METHOD:PUBLISH
X-WR-CALNAME:ajuntament@llicamunt.cat
X-WR-TIMEZONE:Europe/Madrid
DESCRIPTION:
URI:https://www.llicamunt.cat/actualitat/agenda/14488-sessio-extraordinaria-del-ple-municipal-.html
CLASS:PUBLIC
END:VEVENT
END:VCALENDAR
