BEGIN:VCALENDAR
VERSION:2.0
CALSCALE:GREGORIAN
PRODID:-//Diputació de Barcelona//DibaCMS//EN
BEGIN:VEVENT
UID:14602
DTSTAMP:20260424T085453
DTSTART:20250109T173000
DTEND:20250109T193000
SUMMARY:Tarda de jocs de taula
LOCATION:C/Castelló de la Plana, 11 08186   Lliçà d'Amunt
METHOD:PUBLISH
X-WR-CALNAME:ajuntament@llicamunt.cat
X-WR-TIMEZONE:Europe/Madrid
DESCRIPTION:
URI:https://www.llicamunt.cat/actualitat/agenda/14602-tarda-de-jocs-de-taula.html
CLASS:PUBLIC
END:VEVENT
END:VCALENDAR
