BEGIN:VCALENDAR
VERSION:2.0
CALSCALE:GREGORIAN
PRODID:-//Diputació de Barcelona//DibaCMS//EN
BEGIN:VEVENT
UID:14604
DTSTAMP:20260424T085422
DTSTART:20250114T173000
DTEND:20250114T193000
SUMMARY:Club de les dents de lleó   
LOCATION:c. de Castelló de la Plana, 11 08186   Lliçà d'Amunt
METHOD:PUBLISH
X-WR-CALNAME:ajuntament@llicamunt.cat
X-WR-TIMEZONE:Europe/Madrid
DESCRIPTION:
URI:https://www.llicamunt.cat/actualitat/agenda/14604-club-de-les-dents-de-lleo-.html
CLASS:PUBLIC
END:VEVENT
END:VCALENDAR
