BEGIN:VCALENDAR
VERSION:2.0
CALSCALE:GREGORIAN
PRODID:-//Diputació de Barcelona//DibaCMS//EN
BEGIN:VEVENT
UID:14606
DTSTAMP:20260424T105017
DTSTART:20250116T180000
DTEND:20250116T200000
SUMMARY:"Muggle": Club de lectura per a infants  
LOCATION:c. de Castelló de la Plana, 11 08186   Lliçà d'Amunt
METHOD:PUBLISH
X-WR-CALNAME:ajuntament@llicamunt.cat
X-WR-TIMEZONE:Europe/Madrid
DESCRIPTION:
URI:https://www.llicamunt.cat/actualitat/agenda/14606-muggle-club-de-lectura-per-a-infants-.html
CLASS:PUBLIC
END:VEVENT
END:VCALENDAR
