BEGIN:VCALENDAR
VERSION:2.0
CALSCALE:GREGORIAN
PRODID:-//Diputació de Barcelona//DibaCMS//EN
BEGIN:VEVENT
UID:14609
DTSTAMP:20260424T102049
DTSTART:20250122T180000
DTEND:20250122T200000
SUMMARY:Grup de treball "Allà on viu la literatura infantil"   
LOCATION:c. de Castelló de la Plana, 11 08186   Lliçà d'Amunt
METHOD:PUBLISH
X-WR-CALNAME:ajuntament@llicamunt.cat
X-WR-TIMEZONE:Europe/Madrid
DESCRIPTION:
URI:https://www.llicamunt.cat/actualitat/agenda/14609-grup-de-treball-alla-on-viu-la-literatura-infantil-.html
CLASS:PUBLIC
END:VEVENT
END:VCALENDAR
