BEGIN:VCALENDAR
VERSION:2.0
CALSCALE:GREGORIAN
PRODID:-//Diputació de Barcelona//DibaCMS//EN
BEGIN:VEVENT
UID:14611
DTSTAMP:20260424T101311
DTSTART:20250123T180000
DTEND:20250123T200000
SUMMARY:Taller per adults: coaching, meditació i reiki
LOCATION:c. de Castelló de la Plana, 11 08186   Lliçà d'Amunt
METHOD:PUBLISH
X-WR-CALNAME:ajuntament@llicamunt.cat
X-WR-TIMEZONE:Europe/Madrid
DESCRIPTION:
URI:https://www.llicamunt.cat/actualitat/agenda/taller-per-adults-coaching-meditacio-i-reiki.html
CLASS:PUBLIC
END:VEVENT
END:VCALENDAR
