BEGIN:VCALENDAR
VERSION:2.0
CALSCALE:GREGORIAN
PRODID:-//Diputació de Barcelona//DibaCMS//EN
BEGIN:VEVENT
UID:14612
DTSTAMP:20260424T100926
DTSTART:20250125T100000
DTEND:20250125T130000
SUMMARY:Festa d'aniversari de l'Escola Bressol Palaudàries
LOCATION:c. del Segre, 63 08186 Lliçà d'Amunt
METHOD:PUBLISH
X-WR-CALNAME:ajuntament@llicamunt.cat
X-WR-TIMEZONE:Europe/Madrid
DESCRIPTION:
URI:https://www.llicamunt.cat/actualitat/agenda/festa-daniversari-de-lescola-bressol-palaudaries.html
CLASS:PUBLIC
END:VEVENT
END:VCALENDAR
