BEGIN:VCALENDAR
VERSION:2.0
CALSCALE:GREGORIAN
PRODID:-//Diputació de Barcelona//DibaCMS//EN
BEGIN:VEVENT
UID:14614
DTSTAMP:20260424T100231
DTSTART:20250127T173000
DTEND:20250127T200000
SUMMARY:Cub de lectura familiar el binomi fantàstic
LOCATION:c. de Castelló de la Plana, 11 08186   Lliçà d'Amunt
METHOD:PUBLISH
X-WR-CALNAME:ajuntament@llicamunt.cat
X-WR-TIMEZONE:Europe/Madrid
DESCRIPTION:
URI:https://www.llicamunt.cat/actualitat/agenda/cub-de-lectura-familiar-el-binomi-fantastic.html
CLASS:PUBLIC
END:VEVENT
END:VCALENDAR
