BEGIN:VCALENDAR
VERSION:2.0
CALSCALE:GREGORIAN
PRODID:-//Diputació de Barcelona//DibaCMS//EN
BEGIN:VEVENT
UID:14621
DTSTAMP:20260424T112546
DTSTART:20250118T103000
DTEND:20250118T130000
SUMMARY:Taller d'enquadernació d'un quadern de viatge
LOCATION:c. de l'Aliança, 17 08186 Lliçà d'Amunt
METHOD:PUBLISH
X-WR-CALNAME:ajuntament@llicamunt.cat
X-WR-TIMEZONE:Europe/Madrid
DESCRIPTION:
URI:https://www.llicamunt.cat/actualitat/agenda/taller-denquadernacio-dun-quadern-de-viatge.html
CLASS:PUBLIC
END:VEVENT
END:VCALENDAR
