BEGIN:VCALENDAR
VERSION:2.0
CALSCALE:GREGORIAN
PRODID:-//Diputació de Barcelona//DibaCMS//EN
BEGIN:VEVENT
UID:14622
DTSTAMP:20260424T141843
DTSTART:20250125T220000
DTEND:20250126T010000
SUMMARY:Lliksound amb Júlia, Lactik i Pinkgats
LOCATION:c. de l'Aliança, 17 08186 Lliçà d'Amunt
METHOD:PUBLISH
X-WR-CALNAME:ajuntament@llicamunt.cat
X-WR-TIMEZONE:Europe/Madrid
DESCRIPTION:
URI:https://www.llicamunt.cat/actualitat/agenda/lliksound-amb-julia-lactik-i-pinkgats.html
CLASS:PUBLIC
END:VEVENT
END:VCALENDAR
