BEGIN:VCALENDAR
VERSION:2.0
CALSCALE:GREGORIAN
PRODID:-//Diputació de Barcelona//DibaCMS//EN
BEGIN:VEVENT
UID:14629
DTSTAMP:20260424T141914
DTSTART:20250204T160000
DTEND:20250204T173000
SUMMARY:Aprèn a gestionar la gana emocional
LOCATION:Centre Cívic i Cultural La Fàbrica (Camí del Gual, 40, Santa Eulàlia de Ronçana) 
METHOD:PUBLISH
X-WR-CALNAME:ajuntament@llicamunt.cat
X-WR-TIMEZONE:Europe/Madrid
DESCRIPTION:
URI:https://www.llicamunt.cat/actualitat/agenda/apren-a-gestionar-la-gana-emocional.html
CLASS:PUBLIC
END:VEVENT
END:VCALENDAR
