BEGIN:VCALENDAR
VERSION:2.0
CALSCALE:GREGORIAN
PRODID:-//Diputació de Barcelona//DibaCMS//EN
BEGIN:VEVENT
UID:14658
DTSTAMP:20260424T130202
DTSTART:20250129T163000
DTEND:20250129T190000
SUMMARY:Formació SEOVT - Taller Linkedin
LOCATION:En línia (Teams) 
METHOD:PUBLISH
X-WR-CALNAME:ajuntament@llicamunt.cat
X-WR-TIMEZONE:Europe/Madrid
DESCRIPTION:
URI:https://www.llicamunt.cat/actualitat/agenda/formacio-seovt-taller-linkedin.html
CLASS:PUBLIC
END:VEVENT
END:VCALENDAR
