BEGIN:VCALENDAR
VERSION:2.0
CALSCALE:GREGORIAN
PRODID:-//Diputació de Barcelona//DibaCMS//EN
BEGIN:VEVENT
UID:14678
DTSTAMP:20260424T125429
DTSTART:20250203T000000
DTEND:20250228T000000
SUMMARY:Exposició interactiva "Col·lecció d'obres inclusives"
LOCATION:c. de Castelló de la Plana, 11 08186   Lliçà d'Amunt
METHOD:PUBLISH
X-WR-CALNAME:ajuntament@llicamunt.cat
X-WR-TIMEZONE:Europe/Madrid
DESCRIPTION:
URI:https://www.llicamunt.cat/actualitat/agenda/exposicio-interactiva-colleccio-dobres-inclusives.html
CLASS:PUBLIC
END:VEVENT
END:VCALENDAR
