BEGIN:VCALENDAR
VERSION:2.0
CALSCALE:GREGORIAN
PRODID:-//Diputació de Barcelona//DibaCMS//EN
BEGIN:VEVENT
UID:14680
DTSTAMP:20260424T154817
DTSTART:20250206T163000
DTEND:20250206T193000
SUMMARY:Taller de sabons aromàtics
LOCATION:C/Castelló de la Plana, 11 08186   Lliçà d'Amunt
METHOD:PUBLISH
X-WR-CALNAME:ajuntament@llicamunt.cat
X-WR-TIMEZONE:Europe/Madrid
DESCRIPTION:
URI:https://www.llicamunt.cat/actualitat/agenda/taller-de-sabons-aromatics.html
CLASS:PUBLIC
END:VEVENT
END:VCALENDAR
