BEGIN:VCALENDAR
VERSION:2.0
CALSCALE:GREGORIAN
PRODID:-//Diputació de Barcelona//DibaCMS//EN
BEGIN:VEVENT
UID:14681
DTSTAMP:20260424T135240
DTSTART:20250206T183000
DTEND:20250206T200000
SUMMARY:Reunió mensual d'Amunt Dones
LOCATION:c. d’Arenys de Mar, 83 - Parc de la Unió 08186   Lliçà d'Amunt
METHOD:PUBLISH
X-WR-CALNAME:ajuntament@llicamunt.cat
X-WR-TIMEZONE:Europe/Madrid
DESCRIPTION:
URI:https://www.llicamunt.cat/actualitat/agenda/14681-reunio-mensual-damunt-dones.html
CLASS:PUBLIC
END:VEVENT
END:VCALENDAR
