BEGIN:VCALENDAR
VERSION:2.0
CALSCALE:GREGORIAN
PRODID:-//Diputació de Barcelona//DibaCMS//EN
BEGIN:VEVENT
UID:14682
DTSTAMP:20260424T135801
DTSTART:20250208T120000
DTEND:20250208T140000
SUMMARY:Hora del vermut a la biblioteca "Els calçots"
LOCATION:c. de Castelló de la Plana, 11 08186   Lliçà d'Amunt
METHOD:PUBLISH
X-WR-CALNAME:ajuntament@llicamunt.cat
X-WR-TIMEZONE:Europe/Madrid
DESCRIPTION:
URI:https://www.llicamunt.cat/actualitat/agenda/hora-del-vermut-a-la-biblioteca-els-calcots.html
CLASS:PUBLIC
END:VEVENT
END:VCALENDAR
