BEGIN:VCALENDAR
VERSION:2.0
CALSCALE:GREGORIAN
PRODID:-//Diputació de Barcelona//DibaCMS//EN
BEGIN:VEVENT
UID:14703
DTSTAMP:20260424T135745
DTSTART:20250218T100000
DTEND:20250218T120000
SUMMARY:Agenda SEOVT - Sessió informativa del programa "Soc Dona" 2025
LOCATION:Plaça de la Vila, s/n, 2a planta 08186 Lliçà de Vall
METHOD:PUBLISH
X-WR-CALNAME:ajuntament@llicamunt.cat
X-WR-TIMEZONE:Europe/Madrid
DESCRIPTION:
URI:https://www.llicamunt.cat/actualitat/agenda/agenda-seovt-sessio-informativa-del-programa-soc-dona-2025.html
CLASS:PUBLIC
END:VEVENT
END:VCALENDAR
