BEGIN:VCALENDAR
VERSION:2.0
CALSCALE:GREGORIAN
PRODID:-//Diputació de Barcelona//DibaCMS//EN
BEGIN:VEVENT
UID:14719
DTSTAMP:20260424T140953
DTSTART:20250218T170000
DTEND:20250218T200000
SUMMARY:Campanya de donació de sang i plasma
LOCATION:c. del Segre, 65 (Palaudàries) 08186   Lliçà d'Amunt
METHOD:PUBLISH
X-WR-CALNAME:ajuntament@llicamunt.cat
X-WR-TIMEZONE:Europe/Madrid
DESCRIPTION:
URI:https://www.llicamunt.cat/actualitat/agenda/campanya-de-donacio-de-sang-i-plasma.html
CLASS:PUBLIC
END:VEVENT
END:VCALENDAR
