BEGIN:VCALENDAR
VERSION:2.0
CALSCALE:GREGORIAN
PRODID:-//Diputació de Barcelona//DibaCMS//EN
BEGIN:VEVENT
UID:14724
DTSTAMP:20260424T140653
DTSTART:20250218T173000
DTEND:20250218T200000
SUMMARY:Taller creatiu: La expo ideal
LOCATION:c. de Castelló de la Plana, 11 08186   Lliçà d'Amunt
METHOD:PUBLISH
X-WR-CALNAME:ajuntament@llicamunt.cat
X-WR-TIMEZONE:Europe/Madrid
DESCRIPTION:
URI:https://www.llicamunt.cat/actualitat/agenda/taller-creatiu-la-expo-ideal.html
CLASS:PUBLIC
END:VEVENT
END:VCALENDAR
