BEGIN:VCALENDAR
VERSION:2.0
CALSCALE:GREGORIAN
PRODID:-//Diputació de Barcelona//DibaCMS//EN
BEGIN:VEVENT
UID:14726
DTSTAMP:20260424T131223
DTSTART:20250220T180000
DTEND:20250220T200000
SUMMARY:Debat sobre l'estat del municipi
LOCATION:c. de Folch i Torres, 102 08186   Lliçà d'Amunt
METHOD:PUBLISH
X-WR-CALNAME:ajuntament@llicamunt.cat
X-WR-TIMEZONE:Europe/Madrid
DESCRIPTION:
URI:https://www.llicamunt.cat/actualitat/agenda/14726-debat-sobre-lestat-del-municipi.html
CLASS:PUBLIC
END:VEVENT
END:VCALENDAR
