BEGIN:VCALENDAR
VERSION:2.0
CALSCALE:GREGORIAN
PRODID:-//Diputació de Barcelona//DibaCMS//EN
BEGIN:VEVENT
UID:14729
DTSTAMP:20260424T155407
DTSTART:20250222T120000
DTEND:20250222T130000
SUMMARY:Acte d'Homenatge a Franscisco Ibáñez
LOCATION:c. de Castelló de la Plana, 11 08186   Lliçà d'Amunt
METHOD:PUBLISH
X-WR-CALNAME:ajuntament@llicamunt.cat
X-WR-TIMEZONE:Europe/Madrid
DESCRIPTION:
URI:https://www.llicamunt.cat/actualitat/agenda/acte-dhomenatge-a-franscisco-ibanez.html
CLASS:PUBLIC
END:VEVENT
END:VCALENDAR
