BEGIN:VCALENDAR
VERSION:2.0
CALSCALE:GREGORIAN
PRODID:-//Diputació de Barcelona//DibaCMS//EN
BEGIN:VEVENT
UID:14730
DTSTAMP:20260424T143400
DTSTART:20250222T120000
DTEND:20250222T150000
SUMMARY:Calçotada popular
LOCATION:Parc de la Mandarina 
METHOD:PUBLISH
X-WR-CALNAME:ajuntament@llicamunt.cat
X-WR-TIMEZONE:Europe/Madrid
DESCRIPTION:
URI:https://www.llicamunt.cat/actualitat/agenda/14730-calcotada-popular.html
CLASS:PUBLIC
END:VEVENT
END:VCALENDAR
