BEGIN:VCALENDAR
VERSION:2.0
CALSCALE:GREGORIAN
PRODID:-//Diputació de Barcelona//DibaCMS//EN
BEGIN:VEVENT
UID:14733
DTSTAMP:20260425T043801
DTSTART:20250224T000000
DTEND:20250228T000000
SUMMARY:Manaments del Rei Carnestoltes
LOCATION:
METHOD:PUBLISH
X-WR-CALNAME:ajuntament@llicamunt.cat
X-WR-TIMEZONE:Europe/Madrid
DESCRIPTION:
URI:https://www.llicamunt.cat/actualitat/agenda/14733-manaments-del-rei-carnestoltes.html
CLASS:PUBLIC
END:VEVENT
END:VCALENDAR
