BEGIN:VCALENDAR
VERSION:2.0
CALSCALE:GREGORIAN
PRODID:-//Diputació de Barcelona//DibaCMS//EN
BEGIN:VEVENT
UID:14736
DTSTAMP:20260424T170028
DTSTART:20250228T235900
DTEND:20250301T000000
SUMMARY:Festa de Carnaval de L'Avaiam
LOCATION:
METHOD:PUBLISH
X-WR-CALNAME:ajuntament@llicamunt.cat
X-WR-TIMEZONE:Europe/Madrid
DESCRIPTION:
URI:https://www.llicamunt.cat/actualitat/agenda/festa-de-carnaval-de-lavaiam.html
CLASS:PUBLIC
END:VEVENT
END:VCALENDAR
