BEGIN:VCALENDAR
VERSION:2.0
CALSCALE:GREGORIAN
PRODID:-//Diputació de Barcelona//DibaCMS//EN
BEGIN:VEVENT
UID:14791
DTSTAMP:20260424T181357
DTSTART:20250301T180000
DTEND:20250301T203000
SUMMARY:Festa de Carnestoltes a l'Ateneu L'Aliança
LOCATION:c. de l'Aliança, 17 08186 Lliçà d'Amunt
METHOD:PUBLISH
X-WR-CALNAME:ajuntament@llicamunt.cat
X-WR-TIMEZONE:Europe/Madrid
DESCRIPTION:
URI:https://www.llicamunt.cat/actualitat/agenda/14791-festa-de-carnestoltes-a-lateneu-lalianca.html
CLASS:PUBLIC
END:VEVENT
END:VCALENDAR
