BEGIN:VCALENDAR
VERSION:2.0
CALSCALE:GREGORIAN
PRODID:-//Diputació de Barcelona//DibaCMS//EN
BEGIN:VEVENT
UID:14819
DTSTAMP:20260424T200732
DTSTART:20250316T120000
DTEND:20250316T133000
SUMMARY:Ball de Gitanes de Carnestoltes
LOCATION:Plaça Catalunya 
METHOD:PUBLISH
X-WR-CALNAME:ajuntament@llicamunt.cat
X-WR-TIMEZONE:Europe/Madrid
DESCRIPTION:
URI:https://www.llicamunt.cat/actualitat/agenda/ball-de-gitanes-de-carnestoltes.html
CLASS:PUBLIC
END:VEVENT
END:VCALENDAR
