BEGIN:VCALENDAR
VERSION:2.0
CALSCALE:GREGORIAN
PRODID:-//Diputació de Barcelona//DibaCMS//EN
BEGIN:VEVENT
UID:14822
DTSTAMP:20260424T170412
DTSTART:20250301T110000
DTEND:20250301T123000
SUMMARY:Laboratori de lectura: "El calaix de l'artista"
LOCATION:c. de Castelló de la Plana, 11 08186   Lliçà d'Amunt
METHOD:PUBLISH
X-WR-CALNAME:ajuntament@llicamunt.cat
X-WR-TIMEZONE:Europe/Madrid
DESCRIPTION:
URI:https://www.llicamunt.cat/actualitat/agenda/laboratori-de-lectura-el-calaix-de-lartista.html
CLASS:PUBLIC
END:VEVENT
END:VCALENDAR
