BEGIN:VCALENDAR
VERSION:2.0
CALSCALE:GREGORIAN
PRODID:-//Diputació de Barcelona//DibaCMS//EN
BEGIN:VEVENT
UID:14824
DTSTAMP:20260424T171216
DTSTART:20250303T000000
DTEND:20250318T000000
SUMMARY:Curs "Ens movem pel món digital"
LOCATION:c. de Castelló de la Plana, 11 08186   Lliçà d'Amunt
METHOD:PUBLISH
X-WR-CALNAME:ajuntament@llicamunt.cat
X-WR-TIMEZONE:Europe/Madrid
DESCRIPTION:
URI:https://www.llicamunt.cat/actualitat/agenda/14824-curs-ens-movem-pel-mon-digital.html
CLASS:PUBLIC
END:VEVENT
END:VCALENDAR
