BEGIN:VCALENDAR
VERSION:2.0
CALSCALE:GREGORIAN
PRODID:-//Diputació de Barcelona//DibaCMS//EN
BEGIN:VEVENT
UID:14828
DTSTAMP:20260424T171459
DTSTART:20250309T180000
DTEND:20250309T190000
SUMMARY:Infantils de l'Aliança: "Caçamelodies al rescat!"
LOCATION:c. de l'Aliança, 17 08186 Lliçà d'Amunt
METHOD:PUBLISH
X-WR-CALNAME:ajuntament@llicamunt.cat
X-WR-TIMEZONE:Europe/Madrid
DESCRIPTION:
URI:https://www.llicamunt.cat/actualitat/agenda/infantils-de-lalianca-cacamelodies-al-rescat.html
CLASS:PUBLIC
END:VEVENT
END:VCALENDAR
