BEGIN:VCALENDAR
VERSION:2.0
CALSCALE:GREGORIAN
PRODID:-//Diputació de Barcelona//DibaCMS//EN
BEGIN:VEVENT
UID:14836
DTSTAMP:20260424T170555
DTSTART:20250311T173000
DTEND:20250311T193000
SUMMARY:Tarda d'Everybody 1-2-Switch!
LOCATION:C/Castelló de la Plana, 11 08186   Lliçà d'Amunt
METHOD:PUBLISH
X-WR-CALNAME:ajuntament@llicamunt.cat
X-WR-TIMEZONE:Europe/Madrid
DESCRIPTION:
URI:https://www.llicamunt.cat/actualitat/agenda/tarda-deverybody-1-2-switch.html
CLASS:PUBLIC
END:VEVENT
END:VCALENDAR
