BEGIN:VCALENDAR
VERSION:2.0
CALSCALE:GREGORIAN
PRODID:-//Diputació de Barcelona//DibaCMS//EN
BEGIN:VEVENT
UID:14837
DTSTAMP:20260424T181931
DTSTART:20250308T120000
DTEND:20250308T133000
SUMMARY:"Bruixes o dones sàvies?"
LOCATION:c. de Castelló de la Plana, 11 08186   Lliçà d'Amunt
METHOD:PUBLISH
X-WR-CALNAME:ajuntament@llicamunt.cat
X-WR-TIMEZONE:Europe/Madrid
DESCRIPTION:En el marc de la programació d'actes del 8 de març, Dia Internacional de les Dones

URI:https://www.llicamunt.cat/actualitat/agenda/bruixes-o-dones-savies.html
CLASS:PUBLIC
END:VEVENT
END:VCALENDAR
