BEGIN:VCALENDAR
VERSION:2.0
CALSCALE:GREGORIAN
PRODID:-//Diputació de Barcelona//DibaCMS//EN
BEGIN:VEVENT
UID:14838
DTSTAMP:20260424T172136
DTSTART:20250308T220000
DTEND:20250308T235900
SUMMARY:Teatre "ImProderadas"
LOCATION:c. de l'Aliança, 17 08186 Lliçà d'Amunt
METHOD:PUBLISH
X-WR-CALNAME:ajuntament@llicamunt.cat
X-WR-TIMEZONE:Europe/Madrid
DESCRIPTION:En el marc de la programació d'actes del 8 de març, Dia Internacional de les Dones.

URI:https://www.llicamunt.cat/actualitat/agenda/teatre-improderadas.html
CLASS:PUBLIC
END:VEVENT
END:VCALENDAR
