BEGIN:VCALENDAR
VERSION:2.0
CALSCALE:GREGORIAN
PRODID:-//Diputació de Barcelona//DibaCMS//EN
BEGIN:VEVENT
UID:14842
DTSTAMP:20260424T155253
DTSTART:20250315T110000
DTEND:20250315T130000
SUMMARY:Passejada popular "Pas a pas per la igualtat"
LOCATION:Sortida des del del Local social de Mas Bo 
METHOD:PUBLISH
X-WR-CALNAME:ajuntament@llicamunt.cat
X-WR-TIMEZONE:Europe/Madrid
DESCRIPTION:En el marc de la programació d'actes del 8 de març, Dia Internacional de les Dones

URI:https://www.llicamunt.cat/actualitat/agenda/passejada-popular-pas-a-pas-per-la-igualtat.html
CLASS:PUBLIC
END:VEVENT
END:VCALENDAR
