BEGIN:VCALENDAR
VERSION:2.0
CALSCALE:GREGORIAN
PRODID:-//Diputació de Barcelona//DibaCMS//EN
BEGIN:VEVENT
UID:14848
DTSTAMP:20260424T154633
DTSTART:20250313T090000
DTEND:20250318T090000
SUMMARY:SEOVT - Jornada de selecció pel centre logístic de Mango a Lliçà d'Amunt 
LOCATION:
METHOD:PUBLISH
X-WR-CALNAME:ajuntament@llicamunt.cat
X-WR-TIMEZONE:Europe/Madrid
DESCRIPTION:
URI:https://www.llicamunt.cat/actualitat/agenda/seovt-jornada-de-seleccio-pel-centre-logistic-de-mango-a-llica-damunt-.html
CLASS:PUBLIC
END:VEVENT
END:VCALENDAR
