BEGIN:VCALENDAR
VERSION:2.0
CALSCALE:GREGORIAN
PRODID:-//Diputació de Barcelona//DibaCMS//EN
BEGIN:VEVENT
UID:14856
DTSTAMP:20260425T043859
DTSTART:20250329T100000
DTEND:20250329T133000
SUMMARY:"Missió Lliçà: la ruta dels detectius"
LOCATION:c. de Castelló de la Plana, 11 08186   Lliçà d'Amunt
METHOD:PUBLISH
X-WR-CALNAME:ajuntament@llicamunt.cat
X-WR-TIMEZONE:Europe/Madrid
DESCRIPTION:
URI:https://www.llicamunt.cat/actualitat/agenda/missio-llica-la-ruta-dels-detectius.html
CLASS:PUBLIC
END:VEVENT
END:VCALENDAR
