BEGIN:VCALENDAR
VERSION:2.0
CALSCALE:GREGORIAN
PRODID:-//Diputació de Barcelona//DibaCMS//EN
BEGIN:VEVENT
UID:14864
DTSTAMP:20260424T224824
DTSTART:20250320T173000
DTEND:20250320T193000
SUMMARY:Taller de primavera: "Flor de fusta"
LOCATION:C/Castelló de la Plana, 11 08186   Lliçà d'Amunt
METHOD:PUBLISH
X-WR-CALNAME:ajuntament@llicamunt.cat
X-WR-TIMEZONE:Europe/Madrid
DESCRIPTION:
URI:https://www.llicamunt.cat/actualitat/agenda/taller-de-primavera-flor-de-fusta.html
CLASS:PUBLIC
END:VEVENT
END:VCALENDAR
