BEGIN:VCALENDAR
VERSION:2.0
CALSCALE:GREGORIAN
PRODID:-//Diputació de Barcelona//DibaCMS//EN
BEGIN:VEVENT
UID:14868
DTSTAMP:20260424T194709
DTSTART:20250323T183000
DTEND:20250323T200000
SUMMARY:Espectacle de narració oral: "Bruixes o dones sàvies?"
LOCATION:c. de l'Aliança, 17 08186 Lliçà d'Amunt
METHOD:PUBLISH
X-WR-CALNAME:ajuntament@llicamunt.cat
X-WR-TIMEZONE:Europe/Madrid
DESCRIPTION:En el marc dels actes commemoratius del 8 de març, Dia Internacional de les Dones.

URI:https://www.llicamunt.cat/actualitat/agenda/espectacle-de-narracio-oral-bruixes-o-dones-savies.html
CLASS:PUBLIC
END:VEVENT
END:VCALENDAR
