BEGIN:VCALENDAR
VERSION:2.0
CALSCALE:GREGORIAN
PRODID:-//Diputació de Barcelona//DibaCMS//EN
BEGIN:VEVENT
UID:14871
DTSTAMP:20260424T194143
DTSTART:20250327T180000
DTEND:20250327T190000
SUMMARY:Club de (vídeo) joc
LOCATION:c. de Castelló de la Plana, 11 08186   Lliçà d'Amunt
METHOD:PUBLISH
X-WR-CALNAME:ajuntament@llicamunt.cat
X-WR-TIMEZONE:Europe/Madrid
DESCRIPTION:El club de (vídeo)joc és un espai per descobrir i compartir jugant!

URI:https://www.llicamunt.cat/actualitat/agenda/club-de-video-joc.html
CLASS:PUBLIC
END:VEVENT
END:VCALENDAR
