BEGIN:VCALENDAR
VERSION:2.0
CALSCALE:GREGORIAN
PRODID:-//Diputació de Barcelona//DibaCMS//EN
BEGIN:VEVENT
UID:14874
DTSTAMP:20260424T133740
DTSTART:20250222T110000
DTEND:20250222T130000
SUMMARY:Contes al vol: "Per Carnaval tot es pot contar" - duplicat
LOCATION:c. de Castelló de la Plana, 11 08186   Lliçà d'Amunt
METHOD:PUBLISH
X-WR-CALNAME:ajuntament@llicamunt.cat
X-WR-TIMEZONE:Europe/Madrid
DESCRIPTION:
URI:https://www.llicamunt.cat/actualitat/agenda/contes-al-vol-per-carnaval-tot-es-pot-contar-duplicat.html
CLASS:PUBLIC
END:VEVENT
END:VCALENDAR
