BEGIN:VCALENDAR
VERSION:2.0
CALSCALE:GREGORIAN
PRODID:-//Diputació de Barcelona//DibaCMS//EN
BEGIN:VEVENT
UID:14875
DTSTAMP:20260424T213048
DTSTART:20250329T110000
DTEND:20250329T130000
SUMMARY:Contes al vol: "Sons rimats"
LOCATION:c. de Castelló de la Plana, 11 08186   Lliçà d'Amunt
METHOD:PUBLISH
X-WR-CALNAME:ajuntament@llicamunt.cat
X-WR-TIMEZONE:Europe/Madrid
DESCRIPTION:
URI:https://www.llicamunt.cat/actualitat/agenda/contes-al-vol-sons-rimats.html
CLASS:PUBLIC
END:VEVENT
END:VCALENDAR
