BEGIN:VCALENDAR
VERSION:2.0
CALSCALE:GREGORIAN
PRODID:-//Diputació de Barcelona//DibaCMS//EN
BEGIN:VEVENT
UID:14876
DTSTAMP:20260424T224921
DTSTART:20250330T100000
DTEND:20250330T130000
SUMMARY:Activitats de conscienciació sobre residus
LOCATION:Mercat setmanal 
METHOD:PUBLISH
X-WR-CALNAME:ajuntament@llicamunt.cat
X-WR-TIMEZONE:Europe/Madrid
DESCRIPTION:
URI:https://www.llicamunt.cat/actualitat/agenda/activitats-de-conscienciacio-sobre-residus.html
CLASS:PUBLIC
END:VEVENT
END:VCALENDAR
