BEGIN:VCALENDAR
VERSION:2.0
CALSCALE:GREGORIAN
PRODID:-//Diputació de Barcelona//DibaCMS//EN
BEGIN:VEVENT
UID:14878
DTSTAMP:20260425T025226
DTSTART:20250407T170000
DTEND:20250407T190000
SUMMARY:Xerrada educativa "I després de l'ESO, què?" 
LOCATION:En línia 
METHOD:PUBLISH
X-WR-CALNAME:ajuntament@llicamunt.cat
X-WR-TIMEZONE:Europe/Madrid
DESCRIPTION:
URI:https://www.llicamunt.cat/actualitat/agenda/xerrada-educativa-i-despres-de-leso-que-.html
CLASS:PUBLIC
END:VEVENT
END:VCALENDAR
