BEGIN:VCALENDAR
VERSION:2.0
CALSCALE:GREGORIAN
PRODID:-//Diputació de Barcelona//DibaCMS//EN
BEGIN:VEVENT
UID:14880
DTSTAMP:20260424T200509
DTSTART:20250328T220000
DTEND:20250329T010000
SUMMARY:Lliksound amb amb Watching Society i Glossip
LOCATION:c. de l'Aliança, 17 08186 Lliçà d'Amunt
METHOD:PUBLISH
X-WR-CALNAME:ajuntament@llicamunt.cat
X-WR-TIMEZONE:Europe/Madrid
DESCRIPTION:
URI:https://www.llicamunt.cat/actualitat/agenda/lliksound-amb-amb-watching-society-i-glossip.html
CLASS:PUBLIC
END:VEVENT
END:VCALENDAR
