BEGIN:VCALENDAR
VERSION:2.0
CALSCALE:GREGORIAN
PRODID:-//Diputació de Barcelona//DibaCMS//EN
BEGIN:VEVENT
UID:14881
DTSTAMP:20260425T030527
DTSTART:20250405T220000
DTEND:20250406T010000
SUMMARY:Lliksound amb amb amb Vidres A La Sang i Siroll!
LOCATION:c. de l'Aliança, 17 08186 Lliçà d'Amunt
METHOD:PUBLISH
X-WR-CALNAME:ajuntament@llicamunt.cat
X-WR-TIMEZONE:Europe/Madrid
DESCRIPTION:
URI:https://www.llicamunt.cat/actualitat/agenda/lliksound-amb-amb-amb-vidres-a-la-sang-i-siroll.html
CLASS:PUBLIC
END:VEVENT
END:VCALENDAR
