BEGIN:VCALENDAR
VERSION:2.0
CALSCALE:GREGORIAN
PRODID:-//Diputació de Barcelona//DibaCMS//EN
BEGIN:VEVENT
UID:14884
DTSTAMP:20260424T194216
DTSTART:20250322T220000
DTEND:20250323T000000
SUMMARY:Concert de "Los Niños Del Balcón"
LOCATION:c. de l'Aliança, 17 08186 Lliçà d'Amunt
METHOD:PUBLISH
X-WR-CALNAME:ajuntament@llicamunt.cat
X-WR-TIMEZONE:Europe/Madrid
DESCRIPTION:
URI:https://www.llicamunt.cat/actualitat/agenda/concert-de-los-ninos-del-balcon.html
CLASS:PUBLIC
END:VEVENT
END:VCALENDAR
